BEGIN:VCALENDAR
VERSION:2.0
PRODID:-//ChamberMaster//Event Calendar 2.0//EN
METHOD:PUBLISH
X-PUBLISHED-TTL:P3D
REFRESH-INTERVAL:P3D
CALSCALE:GREGORIAN
BEGIN:VEVENT
DTSTART:20251201T210000Z
DTEND:20251201T220000Z
X-MICROSOFT-CDO-ALLDAYEVENT:FALSE
SUMMARY:Ambassador Meeting
DESCRIPTION:This is the meeting for our Ambassadors.\n\n\n\nOur Chamber Ambassadors are dedicated members who help welcome new businesses\, strengthen member connections\, and spread awareness of Chamber programs. If you'd like to learn more about joining the Ambassador team\, contact us at info@superiorchamber.com
X-ALT-DESC;FMTTYPE=text/html:This is the meeting for our Ambassadors.<br />\n<br />\n<span style="font-size:14px\;">Our Chamber Ambassadors are dedicated members who help welcome new businesses\, strengthen member connections\, and spread awareness of Chamber programs. If you&rsquo\;d like to learn more about joining the Ambassador team\, contact us at <strong data-end="423" data-start="395"><a class="decorated-link cursor-pointer" data-end="421" data-start="397" rel="noopener">info@superiorchamber.com</a></strong></span>
LOCATION:
UID:e.867.15861
SEQUENCE:3
DTSTAMP:20260425T103010Z
URL:https://member.superiorchamber.com/events/details/ambassador-meeting-12-01-2025-15861
END:VEVENT

END:VCALENDAR
