BEGIN:VCALENDAR
VERSION:2.0
PRODID:-//ChamberMaster//Event Calendar 2.0//EN
METHOD:PUBLISH
X-PUBLISHED-TTL:P3D
REFRESH-INTERVAL:P3D
CALSCALE:GREGORIAN
BEGIN:VEVENT
DTSTART:20260319T170000Z
DTEND:20260319T180000Z
X-MICROSOFT-CDO-ALLDAYEVENT:FALSE
SUMMARY:FREE Virtual Training from the HR Colective: Beyond SMART Goals and KPI’s
DESCRIPTION:A collaborative discussion on setting\, tracking\, and managing team goals. \n\nFor many teams\, goal setting feels like a "set it and forget it" annual chore. Leaders create them just to check a box\, and teams rarely look at them again until the end of the year. \n\nWe believe it doesn't have to be that way. We're rethinking how we define and drive our targets and we're excited to share a more dynamic approach in this upcoming training. \n\nJoin us for our upcoming session: Beyond SMART Goals and KPI's \n\nIn this collaborative workshop\, we're unpacking: \n\n\n	Navigate the Goal Landscape:?Gain a clear understanding of the world's most popular goal methodologies and identify why traditional frameworks like SMART goals often fall short of driving true growth. \n	Master the OKR Framework:?Learn the anatomy of a high-impact Objective and how to anchor it with measurable\, ambitious Key Results that move the needle. \n	Bridge Theory and Practice:?Move beyond "setting" goals to "living" them with a practical roadmap for tracking progress\, ensuring team alignment\, and maintaining momentum throughout the quarter. \n\n\nAs always\, our sessions include:\n\n\n	30-Minute Training: We will share practical tools to help you streamline your processes and improve your day-to-day people operations. \n	30-Minute Live Q&A: We'll wrap up with a live session to dive into your specific questions and provide real-time support.
X-ALT-DESC;FMTTYPE=text/html:<p>A collaborative discussion on setting\, tracking\, and managing team goals.&nbsp\;</p>\n\n<p>For many teams\, goal setting feels like a &quot\;set it and forget it&quot\; annual chore. Leaders create them just to check a box\, and teams rarely look at them again until the end of the year.&nbsp\;</p>\n\n<p>We believe it doesn&rsquo\;t have to be that way. We&rsquo\;re rethinking how we define and drive our targets&mdash\;and we&rsquo\;re excited to share a more dynamic approach in this upcoming training.&nbsp\;</p>\n\n<p>Join us for our upcoming session: Beyond SMART Goals and KPI&rsquo\;s&nbsp\;</p>\n\n<p>In this collaborative workshop\, we&rsquo\;re unpacking:&nbsp\;</p>\n\n<ul>\n	<li>Navigate the Goal Landscape:?Gain a clear understanding of the world&rsquo\;s most popular goal methodologies and identify why traditional frameworks like SMART goals often fall short of driving true growth.&nbsp\;</li>\n	<li>Master the OKR Framework:?Learn the anatomy of a high-impact Objective and how to anchor it with measurable\, ambitious Key Results that move the needle.&nbsp\;</li>\n	<li>Bridge Theory and Practice:?Move beyond &quot\;setting&quot\; goals to &quot\;living&quot\; them with a practical roadmap for tracking progress\, ensuring team alignment\, and maintaining momentum throughout the quarter.&nbsp\;</li>\n</ul>\n\n<p><span style="font-size:inherit"><strong>As always\, our sessions include:</strong></span></p>\n\n<ul>\n	<li><strong>30-Minute Training:</strong>&nbsp\;We will share practical tools to help you streamline your processes and improve your day-to-day people operations.&nbsp\;</li>\n	<li><strong>30-Minute Live Q&amp\;A:</strong>&nbsp\;We&rsquo\;ll wrap up with a live session to dive into your specific questions and provide real-time support.</li>\n</ul>\n
LOCATION:Register here: https://events.teams.microsoft.com/event/0f11aa82-793a-459d-9207-91d5beb456ea@7452b836-9015-4cfe-8837-f632a588d328
UID:e.867.16230
SEQUENCE:3
DTSTAMP:20260423T041505Z
URL:https://member.superiorchamber.com/events/details/beyond-smart-goals-and-kpi-s-16230
END:VEVENT

END:VCALENDAR
