BEGIN:VCALENDAR
VERSION:2.0
PRODID:-//ChamberMaster//Event Calendar 2.0//EN
METHOD:PUBLISH
X-PUBLISHED-TTL:P3D
REFRESH-INTERVAL:P3D
CALSCALE:GREGORIAN
BEGIN:VEVENT
DTSTART:20180130T170000Z
DTEND:20180130T223000Z
X-MICROSOFT-CDO-ALLDAYEVENT:FALSE
SUMMARY:Blood Drive - Donors Needed!
DESCRIPTION:Citywide Banks will be hosting their blood drive on Tuesday\, January 30th and DONORS ARE NEEDED!!!\n\n\n\nIf you or someone you know is willing and able\, please contact Juan Evans at 303.460.4739 to schedule an appointment. \n\n\n\nEach donation helps save up to 3 LIVES\, so it's never been easier to help your neighbors in need.
X-ALT-DESC;FMTTYPE=text/html:Citywide Banks will be hosting their blood drive on Tuesday\, January 30th and <u><strong><span style="color:rgb(255\, 0\, 0)">DONORS ARE NEEDED!!!</span></strong></u><br />\n<br />\nIf you or someone you know is willing and able\, <strong>please contact Juan Evans at 303.460.4739 to schedule an appointment. </strong><br />\n<br />\nEach donation helps save up to 3 LIVES\, so it&#39\;s never been easier to help your neighbors in need.
LOCATION:Citywide Banks 2002 East Coalton Rd (next to Freddy's and Sonic)
UID:e.867.8509
SEQUENCE:3
DTSTAMP:20260423T105953Z
URL:https://member.superiorchamber.com/events/details/blood-drive-donors-needed-8509
END:VEVENT

END:VCALENDAR
