BEGIN:VCALENDAR
VERSION:2.0
PRODID:-//ChamberMaster//Event Calendar 2.0//EN
METHOD:PUBLISH
X-PUBLISHED-TTL:P3D
REFRESH-INTERVAL:P3D
CALSCALE:GREGORIAN
BEGIN:VEVENT
DTSTART:20170827T150000Z
DTEND:20170827T170000Z
X-MICROSOFT-CDO-ALLDAYEVENT:FALSE
SUMMARY:CHAMBER EVENT: Inaugural Run Superior 5K
DESCRIPTION:Join us for the inaugural Run Superior 5K brought to you by Xcel Energy and is being staged by Superior Chamber of Commerce\, the Town of Superior and Sport Stable.\n\nThe run will take you down the 36 bike path before joining the Coal Creek Trail under McCaslin Blvd then winding its way around 'original' Superior and Founders Park. It will join the outward route to go back under McCaslin. The finish will be on the new cobbled Main Street in Downtown Superior.\n\nThere will be chip timing for all runners and a fantastic goodie bag with offers for Sport Stable businesses. Age group prizes\, first local resident and many more awards.\n\nlink to register\n\neach additional family member receives a $5 discount\n\n...more details to come!
X-ALT-DESC;FMTTYPE=text/html:<p style="box-sizing: border-box\; margin: 0px 0px 15px\; font-size: 16px\; font-family: Roboto\, Arial\; line-height: 1.5 !important\;">Join us for the inaugural Run Superior 5K brought to you by Xcel Energy and&nbsp\;is being&nbsp\;staged by Superior Chamber of Commerce\, the Town of Superior and Sport Stable.</p>\n\n<p style="box-sizing: border-box\; margin: 0px 0px 15px\; font-size: 16px\; font-family: Roboto\, Arial\; line-height: 1.5 !important\;">The run will take you down the 36 bike path before joining the Coal Creek Trail under McCaslin Blvd then winding its way around &lsquo\;original&rsquo\; Superior and Founders Park. It will join the outward route to go back under McCaslin. The finish will be on the new cobbled Main Street in Downtown Superior.</p>\n\n<p style="box-sizing: border-box\; margin: 0px 0px 15px\; font-size: 16px\; font-family: Roboto\, Arial\; line-height: 1.5 !important\;">There will be chip timing for all runners and a fantastic goodie bag with offers for Sport Stable businesses. Age group prizes\, first local resident and many more awards.</p>\n\n<p style="box-sizing: border-box\; margin: 0px 0px 15px\; font-size: 16px\; font-family: Roboto\, Arial\; line-height: 1.5 !important\;"><a href="https://www.racemine.com/Specialized-Timing/events/2017/run-superior-5k">link to register</a><br />\neach additional family member receives a $5 discount<br />\n...more details to come!</p>\n
LOCATION:Sport Stable One Superior Drive Superior\, CO 80027
UID:e.867.8170
SEQUENCE:3
DTSTAMP:20260423T181037Z
URL:https://member.superiorchamber.com/events/details/chamber-event-inaugural-run-superior-5k-8170
END:VEVENT

END:VCALENDAR
