BEGIN:VCALENDAR
VERSION:2.0
PRODID:-//ChamberMaster//Event Calendar 2.0//EN
METHOD:PUBLISH
X-PUBLISHED-TTL:P3D
REFRESH-INTERVAL:P3D
CALSCALE:GREGORIAN
BEGIN:VEVENT
DTSTART:20151212T223000Z
DTEND:20151213T003000Z
X-MICROSOFT-CDO-ALLDAYEVENT:FALSE
SUMMARY:Family Skate with Santa
DESCRIPTION:Bring the whole family to Skate with Santa presented by Dixon Orthodontics on Saturday\, December 12! This annual event is brought to you by the Superior Chamber of Commerce\, Town of Superior and Boulder Valley Ice at Superior. Come enjoy some time on the ice from 3:30 to 5:30p.m. Our sweet snacks will be provided by Panera Bread along with hot cocoa. Photos with Santa and goodie bags for all so please join us!\n\n\n\n\n\nFollowing Family Skate with Santa\, the RoughRiders will play host to the Cheyenne Stampede. Get tickets here! 25% of all proceeds will be donated to Boulder Valley Hockey Foundation with which new toys will be purchased. Donations will be accepted to help support the Toy Drive\, please bring checks payable to Boulder Valley Hockey Foundation.\n\n\n\nQuestions can be directed to the Chamber offices at 303-554-0789 or email at info@superiorchamber.com.
X-ALT-DESC;FMTTYPE=text/html:Bring the whole family to<strong> Skate with Santa presented by Dixon Orthodontics&nbsp\;</strong>on <strong>Saturday\, December 12</strong>! This annual event is brought to you by the Superior Chamber of Commerce\, Town of Superior and <strong>Boulder Valley Ice at Superior</strong>. Come enjoy some time on the ice from <strong>3:30 to 5:30p.m.</strong> Our sweet snacks will be provided by Panera Bread along with hot cocoa. Photos with Santa and goodie bags for all so please join us!\n\n<div>\n<div class="pageEl" id="pageEl_237374094">\n<div class="pageElement textBlockElement clearfix">\n<div class="text clearfix">\n<p>Following Family Skate with Santa\,<em> the RoughRiders will play host to the Cheyenne Stampede</em>. <a href="http://bit.ly/1OeCRnM" target="_blank">Get tickets here!</a>&nbsp\;25% of all proceeds will be donated to Boulder Valley Hockey Foundation with&nbsp\;which new toys will be purchased.&nbsp\;Donations will be accepted to help support the&nbsp\;<a href="http://www.superiorroughriders.com/holidayevents?_ga=1.130782671.1715273328.1447872731">Toy Drive</a>\, please bring checks payable to Boulder Valley Hockey Foundation.</p>\n</div>\n</div>\n</div>\nQuestions can be directed to the Chamber offices at 303-554-0789 or email at <a href="mailto:info@superiorchamber.com">info@superiorchamber.com</a>.</div>\n
LOCATION:Boulder Valley Ice @ Superior 125 Superior Plaza Superior\, CO 80027
UID:e.867.6454
SEQUENCE:3
DTSTAMP:20260425T015428Z
URL:https://member.superiorchamber.com/events/details/family-skate-with-santa-12-12-2015-6454
END:VEVENT

END:VCALENDAR
