BEGIN:VCALENDAR
VERSION:2.0
PRODID:-//ChamberMaster//Event Calendar 2.0//EN
METHOD:PUBLISH
X-PUBLISHED-TTL:P3D
REFRESH-INTERVAL:P3D
CALSCALE:GREGORIAN
BEGIN:VEVENT
DTSTART:20260515T160000Z
DTEND:20260516T020000Z
X-MICROSOFT-CDO-ALLDAYEVENT:FALSE
SUMMARY:Grand Opening: Earthbound Trading Company
DESCRIPTION:Earthbound Trading Company is opening May 15 at FlatIron Crossing on the upper level next to Cotton On!
X-ALT-DESC;FMTTYPE=text/html:<span style="font-size:20px\;"><a href="http://www.earthboundtrading.com">Earthbound Trading Company</a> is opening May 15 at FlatIron Crossing on the upper level next to Cotton On!</span>
LOCATION:FlatIron Crossing - Upper Level next to Cotton On
UID:e.867.16210
SEQUENCE:3
DTSTAMP:20260423T041603Z
URL:https://member.superiorchamber.com/events/details/grand-opening-earthbound-trading-company-16210
END:VEVENT

END:VCALENDAR
