BEGIN:VCALENDAR
VERSION:2.0
PRODID:-//ChamberMaster//Event Calendar 2.0//EN
METHOD:PUBLISH
X-PUBLISHED-TTL:P3D
REFRESH-INTERVAL:P3D
CALSCALE:GREGORIAN
BEGIN:VEVENT
DTSTART;VALUE=DATE:20260123
DTEND;VALUE=DATE:20260124
TRANSP:TRANSPARENT
X-MICROSOFT-CDO-ALLDAYEVENT:TRUE
SUMMARY:January Repair Month
DESCRIPTION:January Jewelry Repair Days\n\nTrael Fine Jewelry is offering 15% off jewelry repairs until the end of January with a GOOGLE Review.  \n\nStart the new year by getting your jewelry cleaned\, checked for safety\, and looking its best. Bring in your pieces for repairs\, appraisals\, or simply to restore that extra sparkle!
X-ALT-DESC;FMTTYPE=text/html:<span style="font-size:18px\;"><strong><u>January Jewelry Repair Days</u></strong></span><br />\n<span style="font-size:16px\;"><span style="color:#DAA520\;">Trael Fine Jewelry</span> is offering 15% off jewelry repairs until the end of January with a GOOGLE Review.&nbsp\; </span><br />\n<span style="font-size:14px\;">Start the new year by getting your jewelry cleaned\, checked for safety\, and looking its best. Bring in your pieces for repairs\, appraisals\, or simply to restore that extra sparkle!</span>
LOCATION:TRAEL Fine Jewelry 602 Center Dr\, Suite D Superior\, Co 80027
UID:e.867.16146
SEQUENCE:3
DTSTAMP:20260423T084308Z
URL:https://member.superiorchamber.com/events/details/january-repair-month-01-23-2026-16146
END:VEVENT

END:VCALENDAR
