BEGIN:VCALENDAR
VERSION:2.0
PRODID:-//ChamberMaster//Event Calendar 2.0//EN
METHOD:PUBLISH
X-PUBLISHED-TTL:P3D
REFRESH-INTERVAL:P3D
CALSCALE:GREGORIAN
BEGIN:VEVENT
DTSTART:20260325T150000Z
DTEND:20260325T190000Z
X-MICROSOFT-CDO-ALLDAYEVENT:FALSE
SUMMARY:Northwest Chamber Alliance Day at the Capitol
DESCRIPTION:The Superior Chamber of Commerce is actively monitoring\, advocating\, and engaging on numerous state legislative bills relating to housing\, public safety\, economic development\, and the state budget\, among other issues currently under debate at the State Capitol.\n\n \n\nAs part of our commitment to representing the interests of our business community\, the Superior Chamber has also established a new Advocacy Committee to support policy monitoring\, provide informed feedback\, and ensure the voice of Superior businesses is heard at the local\, regional\, and state levels.\n\n \n\nYou'll have the opportunity to weigh in directly on these important issues with your elected state officials by registering for the 2026 Northwest Chamber Alliance Day at the Capitol. This is a valuable chance to engage in meaningful dialogue\, strengthen relationships\, and help shape policies that impact our business community.\n\n \n\nWe encourage you to join us and be part of the conversation.\n\n \n\n \n\nEvent Details: \n\n\n	When: Wednesday\, March 25\, from 9:00 am - 1:00 pm\n	Where: HCR 0109\, Colorado State Capitol\, 200 E Colfax Ave\, Denver\, CO 80203\n	What: Northwest Chamber Alliance's Day at the Capitol is presented by \\the Superior Chamber.  Boulder Chamber\, Broomfield Area Chamber\, the Lafayette Chamber\, the Latino Chamber of Boulder County\, the Longmont Area Chamber\, and the Louisville Chamber. \n\n\n \n\nThe Northwest Chamber Alliance is scheduled to engage our state delegation regarding our region's top legislative priorities. This is also an opportunity for our Chamber members to communicate directly with state government leadership on issues important to them and their businesses\, while gaining insight into the state legislative process. \n\n \n\nJoin us and let your voice be heard at the State Capitol!
X-ALT-DESC;FMTTYPE=text/html:<p style="margin: 0px\; padding: 0px\; color: rgb(62\, 62\, 62)\; font-family: Arial\, Verdana\, Helvetica\, sans-serif\; font-size: 14px\; white-space-collapse: preserve\;">The Superior Chamber of Commerce is actively monitoring\, advocating\, and engaging on numerous state legislative bills relating to housing\, public safety\, economic development\, and the state budget\, among other issues currently under debate at the State Capitol.</p>\n\n<p style="margin: 0px\; padding: 0px\; color: rgb(62\, 62\, 62)\; font-family: Arial\, Verdana\, Helvetica\, sans-serif\; font-size: 14px\; white-space-collapse: preserve\;">&nbsp\;</p>\n\n<p style="margin: 0px\; padding: 0px\; color: rgb(62\, 62\, 62)\; font-family: Arial\, Verdana\, Helvetica\, sans-serif\; font-size: 14px\; white-space-collapse: preserve\;">As part of our commitment to representing the interests of our business community\, the Superior Chamber has also established a new Advocacy Committee to support policy monitoring\, provide informed feedback\, and ensure the voice of Superior businesses is heard at the local\, regional\, and state levels.</p>\n\n<p style="margin: 0px\; padding: 0px\; color: rgb(62\, 62\, 62)\; font-family: Arial\, Verdana\, Helvetica\, sans-serif\; font-size: 14px\; white-space-collapse: preserve\;">&nbsp\;</p>\n\n<p style="margin: 0px\; padding: 0px\; color: rgb(62\, 62\, 62)\; font-family: Arial\, Verdana\, Helvetica\, sans-serif\; font-size: 14px\; white-space-collapse: preserve\;">You&rsquo\;ll have the opportunity to weigh in directly on these important issues with your elected state officials by registering for the 2026 Northwest Chamber Alliance Day at the Capitol. This is a valuable chance to engage in meaningful dialogue\, strengthen relationships\, and help shape policies that impact our business community.</p>\n\n<p style="margin: 0px\; padding: 0px\; color: rgb(62\, 62\, 62)\; font-family: Arial\, Verdana\, Helvetica\, sans-serif\; font-size: 14px\; white-space-collapse: preserve\;">&nbsp\;</p>\n\n<p style="margin: 0px\; padding: 0px\; color: rgb(62\, 62\, 62)\; font-family: Arial\, Verdana\, Helvetica\, sans-serif\; font-size: 14px\; white-space-collapse: preserve\;">We encourage you to join us and be part of the conversation.</p>\n\n<p style="margin: 0px\; padding: 0px\; color: rgb(62\, 62\, 62)\; font-family: Arial\, Verdana\, Helvetica\, sans-serif\; font-size: 14px\; white-space-collapse: preserve\;">&nbsp\;</p>\n\n<p style="margin: 0px\; padding: 0px\; color: rgb(62\, 62\, 62)\; font-family: Arial\, Verdana\, Helvetica\, sans-serif\; font-size: 14px\; white-space-collapse: preserve\;">&nbsp\;</p>\n\n<p style="margin: 0px\; padding: 0px\; color: rgb(62\, 62\, 62)\; font-family: Arial\, Verdana\, Helvetica\, sans-serif\; font-size: 14px\; white-space-collapse: preserve\;"><span style="color: rgb(0\, 0\, 0)\;">Event Details:&nbsp\;</span></p>\n\n<ul style="margin: 0px 0px 0px 40px\; padding-right: 0px\; padding-left: 0px\; color: rgb(62\, 62\, 62)\; font-family: Arial\, Verdana\, Helvetica\, sans-serif\; font-size: 14px\; white-space-collapse: preserve\;">\n	<li style="padding: 0px\; margin: 0px\;"><span style="color: rgb(0\, 0\, 0)\;">When:&nbsp\;Wednesday\, March 25\, from 9:00 am - 1:00 pm</span></li>\n	<li style="padding: 0px\; margin: 0px\;"><span style="color: rgb(0\, 0\, 0)\;">Where:&nbsp\;HCR 0109\, Colorado State Capitol\,&#8239\;200 E Colfax Ave\, Denver\, CO 80203</span></li>\n	<li style="padding: 0px\; margin: 0px\; color: rgb(0\, 0\, 0)\;">What:&nbsp\;Northwest Chamber Alliance&#39\;s Day at the Capitol&nbsp\;is&nbsp\;presented&nbsp\;by \\the Superior Chamber.&nbsp\; Boulder Chamber\, Broomfield Area Chamber\, the Lafayette Chamber\, the Latino Chamber of Boulder County\, the Longmont Area Chamber\, and the Louisville Chamber.&nbsp\;</li>\n</ul>\n\n<p style="margin: 0px\; padding: 0px\; color: rgb(62\, 62\, 62)\; font-family: Arial\, Verdana\, Helvetica\, sans-serif\; font-size: 14px\; white-space-collapse: preserve\;">&nbsp\;</p>\n\n<p style="margin: 0px\; padding: 0px\; color: rgb(62\, 62\, 62)\; font-family: Arial\, Verdana\, Helvetica\, sans-serif\; font-size: 14px\; white-space-collapse: preserve\;"><span style="color: rgb(0\, 0\, 0)\;">The Northwest Chamber Alliance is scheduled to engage our state delegation regarding our region&#39\;s top legislative priorities. This is also an opportunity for our Chamber members to communicate directly with state government leadership on issues important to them and their businesses\, while gaining insight into the state legislative process.&nbsp\;</span></p>\n\n<p style="margin: 0px\; padding: 0px\; color: rgb(62\, 62\, 62)\; font-family: Arial\, Verdana\, Helvetica\, sans-serif\; font-size: 14px\; white-space-collapse: preserve\;"><span style="color: rgb(0\, 0\, 0)\;">&nbsp\;</span></p>\n\n<p style="margin: 0px\; padding: 0px\; color: rgb(62\, 62\, 62)\; font-family: Arial\, Verdana\, Helvetica\, sans-serif\; font-size: 14px\; white-space-collapse: preserve\;"><span style="color: rgb(0\, 0\, 0)\;">Join us and&nbsp\;let your&nbsp\;voice be&nbsp\;heard&nbsp\;at&nbsp\;the State Capitol!&nbsp\;</span></p>\n
LOCATION:Colorado State Capitol 200 E. Colfax Ave\, Denver\, CO 80203\, Room HCR 0109\,
UID:e.867.16229
SEQUENCE:3
DTSTAMP:20260423T041609Z
URL:https://member.superiorchamber.com/events/details/northwest-chamber-alliance-day-at-the-capitol-16229
END:VEVENT

END:VCALENDAR
