BEGIN:VCALENDAR
VERSION:2.0
PRODID:-//ChamberMaster//Event Calendar 2.0//EN
METHOD:PUBLISH
X-PUBLISHED-TTL:P3D
REFRESH-INTERVAL:P3D
CALSCALE:GREGORIAN
BEGIN:VEVENT
DTSTART:20260426T000000Z
DTEND:20260426T020000Z
X-MICROSOFT-CDO-ALLDAYEVENT:FALSE
SUMMARY:Pokemon Skate at the Blue Sport Stable
DESCRIPTION:POK MON SKATE NIGHT IS HERE! \n\nGet ready to catch 'em all  on wheels ????\n\nJoin us Saturday\, April 25th from 6 8 PM for an epic night where the rink transforms into a Pok mon party full of music\, skating\, and nonstop fun!\n\nCome dressed as your favorite Pok mon (or rock your best gear!)\n\nCruise around the rink with fellow trainers\n\nJump into Ice Bumper Cars for extra thrills\n\nBring your cards and trade with other fans who knows what rare finds await!\n\n$8 per person | $4 per rental\n\nWhether you're Team Pikachu or Team Charmander\, this is one night you don't want to miss!\n\n\n\n1 Superior Dr\, Superior\, CO\n\nTag your crew and get ready to skate\, trade\, and vibe Pok mon-style!
X-ALT-DESC;FMTTYPE=text/html:<p><span style="font-size:20px\;"><strong>POK&Eacute\;MON SKATE NIGHT IS HERE!&nbsp\;</strong></span></p>\n\n<p>Get ready to <em>catch &lsquo\;em all</em>&hellip\; on wheels ????</p>\n\n<p>Join us <strong>Saturday\, April 25th from 6&ndash\;8 PM</strong> for an epic night where the rink transforms into a Pok&eacute\;mon party full of music\, skating\, and nonstop fun!</p>\n\n<p>Come dressed as your favorite Pok&eacute\;mon (or rock your best gear!)<br />\nCruise around the rink with fellow trainers<br />\nJump into Ice Bumper Cars for extra thrills<br />\nBring your cards and trade with other fans&mdash\;who knows what rare finds await!</p>\n\n<p>$8 per person | $4 per rental</p>\n\n<p>Whether you&#39\;re Team Pikachu&nbsp\;or Team Charmander\, this is one night you don&rsquo\;t want to miss!<br />\n<br />\n1 Superior Dr\, Superior\, CO</p>\n\n<p>Tag your crew and get ready to skate\, trade\, and vibe Pok&eacute\;mon-style!</p>\n
LOCATION:Blue Sport Stable 1 Superior Dr.\, Superior CO 80027
UID:e.867.16386
SEQUENCE:3
DTSTAMP:20260421T084533Z
URL:https://member.superiorchamber.com/events/details/pokemon-skate-at-the-blue-sport-stable-16386
END:VEVENT

END:VCALENDAR
