BEGIN:VCALENDAR
VERSION:2.0
PRODID:-//ChamberMaster//Event Calendar 2.0//EN
METHOD:PUBLISH
X-PUBLISHED-TTL:P3D
REFRESH-INTERVAL:P3D
CALSCALE:GREGORIAN
BEGIN:VEVENT
DTSTART:20261212T200000Z
DTEND:20261213T000000Z
X-MICROSOFT-CDO-ALLDAYEVENT:FALSE
SUMMARY:Superior Winter Festival 2026
DESCRIPTION:CHECK BACK SOON FOR 2026 DETAILS\n\n\n\nSuperior Winter Festival\n\nLive Performances\, Photos with Santa\, Visits with Reindeer\,  Local Vendors\, Hot Cocoa & Treats\, Arts & Crafts\, and more!\nSuperior Winter Festival
X-ALT-DESC;FMTTYPE=text/html:<span style="font-size:18px\;"><span style="font-family:verdana\;"><span style="font-size:26px\;"><span style="font-family:tahoma\;"><strong><span style="color:#0000CD\;">CHECK BACK SOON FOR 2026 DETAILS</span></strong></span></span><br />\n<br />\nSuperior Winter Festival<br />\nLive Performances\, Photos with Santa\, Visits with Reindeer\,&nbsp\; Local Vendors\, Hot Cocoa &amp\; Treats\, Arts &amp\; Crafts\, and more!</span></span>\n<p --font-size:="" --line-height:="" class="cvGsUA direction-ltr align-center para-style-body" line-height:="" style="color: rgb(155\, 15\, 13)\; font-family: " text-transform:="" yacgeqztv38=""><span style="color:#0066cc\;"><span style="font-size:22px\;"><span class="OYPEnA text-decoration-none text-strikethrough-none" style="font-weight: 700\;">Superior Winter Festival</span></span></span></p>\n
LOCATION:Downtown Superior on Main Street and Superior Drive\, and at the Blue Sport Stable
UID:e.867.16206
SEQUENCE:3
DTSTAMP:20260423T135655Z
URL:https://member.superiorchamber.com/events/details/superior-winter-festival-2026-16206
END:VEVENT

END:VCALENDAR
