BEGIN:VCALENDAR
VERSION:2.0
PRODID:-//ChamberMaster//Event Calendar 2.0//EN
METHOD:PUBLISH
X-PUBLISHED-TTL:P3D
REFRESH-INTERVAL:P3D
CALSCALE:GREGORIAN
BEGIN:VEVENT
DTSTART:20200611T180000Z
DTEND:20200611T190000Z
X-MICROSOFT-CDO-ALLDAYEVENT:FALSE
SUMMARY:Women in Business
DESCRIPTION:Women in Business is your monthly dose of empowerment! \n\n\n\nEach month\, the Superior Chamber in partnership with MOD Moms hosts a FREE event and guest speaker for professional and entrepreneurial women in and around Superior.  Speakers will focus on building skills that make women successful in their chosen area of professional focus.       \n\n\n\nNormally\, this event is a luncheon (please join us for a future event when we can all be together!).  However\, our June 11 event will be a Zoom gathering.  Please register and you will be sent credentials the morning of the event. \n\n\n\nWe will start at NOON.  Thanks!\n\n\n\nThis month's Women in Business is generously sponsored by Stephanie Schacht\, Attorney at Law.\n\n\n\nThis month's speaker is Chandy Ghosh\, COO and Managing Director of Inteliquent 9-1-1 Emergency Services.  Chandy has received numerous awards including: 2020 Power 100 (worldwide list of mena nd women leaders in Telecom)\; 2019 Best Woman in Global Wholesale Telecom\, and 2019 Top 20 Women to Watch Worldwide in Telecom & Technology.  Her topic will be "How to Succeed After a Journey Through Adversity."
X-ALT-DESC;FMTTYPE=text/html:<div><br />\n<span style="font-size:16px\;"><strong>Women in Business</strong> is your monthly dose of empowerment!&nbsp\;<br />\n<br />\nEach month\, the Superior Chamber in partnership with <em><a href="http://www.modmomsnorth.org">MOD Moms</a></em> hosts a <strong>FREE</strong> event and guest speaker for professional and entrepreneurial women in and around Superior.&nbsp\; Speakers will focus on building skills that make women successful in their chosen area of professional focus.&nbsp\; &nbsp\; &nbsp\; &nbsp\;</span></div>\n\n<div><br />\n<span style="font-size:16px\;"><font color="#ff0000"><b><i>Normally\, this event is a luncheon (please join us for a future event when we can all be together!).&nbsp\; However\, our June 11 event will be a Zoom gathering.&nbsp\; Please register and you will be sent credentials the morning of the event.&nbsp\;<br />\n<br />\nWe will start at NOON.&nbsp\; Thanks!</i></b></font><br />\n<br />\n<b>This month&#39\;s Women in Business is generously sponsored by Stephanie Schacht\, Attorney at Law.</b><br />\n<br />\n<span style="color:#4B0082\;">This month&#39\;s speaker is <strong>Chandy Ghosh</strong>\, COO and Managing Director of Inteliquent 9-1-1 Emergency Services.&nbsp\; Chandy has received numerous awards including: 2020 Power 100 (worldwide list of mena nd women leaders in Telecom)\; 2019 Best Woman in Global Wholesale Telecom\, and 2019 Top 20 Women to Watch Worldwide in Telecom &amp\; Technology.&nbsp\; Her topic will be &quot\;How to Succeed After a Journey Through Adversity.&quot\;&nbsp\;</span></span><br />\n<br />\n&nbsp\;</div>\n
LOCATION:Zoom Event
UID:e.867.4211
SEQUENCE:3
DTSTAMP:20260421T135824Z
URL:https://member.superiorchamber.com/events/details/superior-women-in-business-06-11-2020-4211
END:VEVENT

END:VCALENDAR
